BEGIN:VCALENDAR
VERSION:2.0
PRODID:-//Andar360 v1.0//EN
BEGIN:VEVENT
UID:valentinabahamoncabrera@gmail.com
DTSTAMP:20260422T112324Z
DTSTART:20260520T193000Z
DTEND:20260520T223000Z
SUMMARY:Food Pantry Volunteer - Crystal Lake
DESCRIPTION:Opportunity: Food Pantry Volunteer - Crystal Lake\nAgency: Cent
 ral Florida Health Care\n\nUnited Way of Central Florida is seeking volunte
 ers along with Central Florida Health Care to assist with food distribution
 s as part of the UWCF George W. Jenkins End Hunger Initiative. Volunteers w
 ill pack and distribute food boxes that include fresh fruits, vegetables, f
 rozen meats and more. The UWCF George W. Jenkins End Hunger Initiative work
 s to provide healthy foods to individuals in food insecure regions in Polk 
 County while simultaneously providing wraparound services that help familie
 s to find and maintain stability.\n1st and 3rd Wednesday. Volunteers needed
  from 3:30-6:30 pm. Public access begins at 4:30 pm.\n\nOpportunity Type: I
 ndividual and Team\nLength of Type: One Time\nMinimum age required: 15
X-ALT-DESC;FMTTYPE=text/html:Opportunity: Food Pantry Volunteer - Crystal L
 ake<br>Agency: <a href="https://www.liveuwcf.org/Volunteer/VolAgencyInfo.js
 p?nbr=953638">Central Florida Health Care</a><p>United Way of Central Flori
 da is seeking volunteers along with Central Florida Health Care to assist w
 ith food distributions as part of the UWCF George W. Jenkins End Hunger Ini
 tiative. Volunteers will pack and distribute food boxes that include fresh 
 fruits, vegetables, frozen meats and more. The UWCF George W. Jenkins End H
 unger Initiative works to provide healthy foods to individuals in food inse
 cure regions in Polk County while simultaneously providing wraparound servi
 ces that help families to find and maintain stability.<br><b>1st and 3rd We
 dnesday. Volunteers needed from 3:30-6:30 pm.  Public access begins at 4:30
  pm.</b><p>Opportunity Type: Individual and Team<br>Length of Type: One Tim
 e<br>Minimum age required: 15
END:VEVENT
END:VCALENDAR